BEGIN:VCALENDAR
VERSION:2.0
PRODID:-//Corax Strelitz e.V. - ECPv6.15.20//NONSGML v1.0//EN
CALSCALE:GREGORIAN
METHOD:PUBLISH
X-WR-CALNAME:Corax Strelitz e.V.
X-ORIGINAL-URL:https://corax-strelitz-ev.de
X-WR-CALDESC:Veranstaltungen für Corax Strelitz e.V.
REFRESH-INTERVAL;VALUE=DURATION:PT1H
X-Robots-Tag:noindex
X-PUBLISHED-TTL:PT1H
BEGIN:VTIMEZONE
TZID:UTC
BEGIN:STANDARD
TZOFFSETFROM:+0000
TZOFFSETTO:+0000
TZNAME:UTC
DTSTART:20240101T000000
END:STANDARD
END:VTIMEZONE
BEGIN:VEVENT
DTSTART;VALUE=DATE:20250607
DTEND;VALUE=DATE:20250608
DTSTAMP:20260420T055336
CREATED:20250129T164243Z
LAST-MODIFIED:20250129T164243Z
UID:968-1749254400-1749340799@corax-strelitz-ev.de
SUMMARY:MF Wodan Pfingstparty
DESCRIPTION:
URL:https://corax-strelitz-ev.de/termin/mf-wodan-pfingstparty/
END:VEVENT
BEGIN:VEVENT
DTSTART;VALUE=DATE:20250614
DTEND;VALUE=DATE:20250615
DTSTAMP:20260420T055336
CREATED:20250129T164310Z
LAST-MODIFIED:20250129T164310Z
UID:970-1749859200-1749945599@corax-strelitz-ev.de
SUMMARY:Windhunde Stralsund
DESCRIPTION:
URL:https://corax-strelitz-ev.de/termin/windhunde-stralsund-3/
END:VEVENT
BEGIN:VEVENT
DTSTART;VALUE=DATE:20250621
DTEND;VALUE=DATE:20250622
DTSTAMP:20260420T055336
CREATED:20250129T164344Z
LAST-MODIFIED:20250129T164344Z
UID:972-1750464000-1750550399@corax-strelitz-ev.de
SUMMARY:OldBoys Wolgast - Jahresparty
DESCRIPTION:
URL:https://corax-strelitz-ev.de/termin/oldboys-wolgast-jahresparty/
END:VEVENT
BEGIN:VEVENT
DTSTART;VALUE=DATE:20250627
DTEND;VALUE=DATE:20250630
DTSTAMP:20260420T055336
CREATED:20250129T164422Z
LAST-MODIFIED:20250129T164422Z
UID:974-1750982400-1751241599@corax-strelitz-ev.de
SUMMARY:Neuendorfer Biker
DESCRIPTION:
URL:https://corax-strelitz-ev.de/termin/neuendorfer-biker/
END:VEVENT
END:VCALENDAR