BEGIN:VCALENDAR
VERSION:2.0
PRODID:-//Corax Strelitz e.V. - ECPv6.15.20//NONSGML v1.0//EN
CALSCALE:GREGORIAN
METHOD:PUBLISH
X-WR-CALNAME:Corax Strelitz e.V.
X-ORIGINAL-URL:https://corax-strelitz-ev.de
X-WR-CALDESC:Veranstaltungen für Corax Strelitz e.V.
REFRESH-INTERVAL;VALUE=DURATION:PT1H
X-Robots-Tag:noindex
X-PUBLISHED-TTL:PT1H
BEGIN:VTIMEZONE
TZID:UTC
BEGIN:STANDARD
TZOFFSETFROM:+0000
TZOFFSETTO:+0000
TZNAME:UTC
DTSTART:20240101T000000
END:STANDARD
END:VTIMEZONE
BEGIN:VEVENT
DTSTART;VALUE=DATE:20250405
DTEND;VALUE=DATE:20250406
DTSTAMP:20260420T084124
CREATED:20250129T163702Z
LAST-MODIFIED:20250129T163702Z
UID:950-1743811200-1743897599@corax-strelitz-ev.de
SUMMARY:OldBoys Wolgast
DESCRIPTION:
URL:https://corax-strelitz-ev.de/termin/oldboys-wolgast-2/
END:VEVENT
BEGIN:VEVENT
DTSTART;VALUE=DATE:20250405
DTEND;VALUE=DATE:20250406
DTSTAMP:20260420T084124
CREATED:20250129T163732Z
LAST-MODIFIED:20250129T163732Z
UID:952-1743811200-1743897599@corax-strelitz-ev.de
SUMMARY:Saisoneröffnung Corax
DESCRIPTION:
URL:https://corax-strelitz-ev.de/termin/saisoneroeffnung-corax/
END:VEVENT
BEGIN:VEVENT
DTSTART;VALUE=DATE:20250419
DTEND;VALUE=DATE:20250420
DTSTAMP:20260420T084124
CREATED:20250129T163806Z
LAST-MODIFIED:20250129T163806Z
UID:954-1745020800-1745107199@corax-strelitz-ev.de
SUMMARY:Alter Bahnhof Friedland - Osterfeuer
DESCRIPTION:
URL:https://corax-strelitz-ev.de/termin/alter-bahnhof-friedland-osterfeuer/
END:VEVENT
BEGIN:VEVENT
DTSTART;VALUE=DATE:20250426
DTEND;VALUE=DATE:20250427
DTSTAMP:20260420T084124
CREATED:20250129T163854Z
LAST-MODIFIED:20250129T163854Z
UID:956-1745625600-1745711999@corax-strelitz-ev.de
SUMMARY:MF Pasewalk - Jahresparty
DESCRIPTION:
URL:https://corax-strelitz-ev.de/termin/mf-pasewalk-jahresparty/
END:VEVENT
END:VCALENDAR