BEGIN:VCALENDAR
VERSION:2.0
PRODID:-//Corax Strelitz e.V. - ECPv6.15.20//NONSGML v1.0//EN
CALSCALE:GREGORIAN
METHOD:PUBLISH
X-ORIGINAL-URL:https://corax-strelitz-ev.de
X-WR-CALDESC:Veranstaltungen für Corax Strelitz e.V.
REFRESH-INTERVAL;VALUE=DURATION:PT1H
X-Robots-Tag:noindex
X-PUBLISHED-TTL:PT1H
BEGIN:VTIMEZONE
TZID:UTC
BEGIN:STANDARD
TZOFFSETFROM:+0000
TZOFFSETTO:+0000
TZNAME:UTC
DTSTART:20230101T000000
END:STANDARD
END:VTIMEZONE
BEGIN:VEVENT
DTSTART;VALUE=DATE:20241102
DTEND;VALUE=DATE:20241103
DTSTAMP:20260420T162059
CREATED:20240128T152944Z
LAST-MODIFIED:20240128T152944Z
UID:656-1730505600-1730591999@corax-strelitz-ev.de
SUMMARY:Meyenburg MF
DESCRIPTION:
URL:https://corax-strelitz-ev.de/termin/meyenburg-mf-2/
END:VEVENT
BEGIN:VEVENT
DTSTART;VALUE=DATE:20241116
DTEND;VALUE=DATE:20241117
DTSTAMP:20260420T162059
CREATED:20240128T153031Z
LAST-MODIFIED:20240128T153031Z
UID:658-1731715200-1731801599@corax-strelitz-ev.de
SUMMARY:MFG Hijacker Rehfelde - 30 Jahre
DESCRIPTION:
URL:https://corax-strelitz-ev.de/termin/mfg-hijacker-rehfelde-30-jahre/
END:VEVENT
BEGIN:VEVENT
DTSTART;VALUE=DATE:20241130
DTEND;VALUE=DATE:20241201
DTSTAMP:20260420T162059
CREATED:20240128T153104Z
LAST-MODIFIED:20240128T153104Z
UID:660-1732924800-1733011199@corax-strelitz-ev.de
SUMMARY:Glühweinparty Corax
DESCRIPTION:
URL:https://corax-strelitz-ev.de/termin/gluehweinparty-corax/
END:VEVENT
END:VCALENDAR