BEGIN:VCALENDAR
VERSION:2.0
PRODID:-//Corax Strelitz e.V. - ECPv6.15.20//NONSGML v1.0//EN
CALSCALE:GREGORIAN
METHOD:PUBLISH
X-WR-CALNAME:Corax Strelitz e.V.
X-ORIGINAL-URL:https://corax-strelitz-ev.de
X-WR-CALDESC:Veranstaltungen für Corax Strelitz e.V.
REFRESH-INTERVAL;VALUE=DURATION:PT1H
X-Robots-Tag:noindex
X-PUBLISHED-TTL:PT1H
BEGIN:VTIMEZONE
TZID:UTC
BEGIN:STANDARD
TZOFFSETFROM:+0000
TZOFFSETTO:+0000
TZNAME:UTC
DTSTART:20220101T000000
END:STANDARD
END:VTIMEZONE
BEGIN:VEVENT
DTSTART;VALUE=DATE:20230630
DTEND;VALUE=DATE:20230703
DTSTAMP:20260421T125709
CREATED:20230130T124823Z
LAST-MODIFIED:20230130T124823Z
UID:513-1688083200-1688342399@corax-strelitz-ev.de
SUMMARY:MC Meute
DESCRIPTION:Meute Plau am See – 30 Jahre
URL:https://corax-strelitz-ev.de/termin/mc-meute/
END:VEVENT
BEGIN:VEVENT
DTSTART;VALUE=DATE:20230708
DTEND;VALUE=DATE:20230709
DTSTAMP:20260421T125709
CREATED:20230130T124916Z
LAST-MODIFIED:20230130T124916Z
UID:515-1688774400-1688860799@corax-strelitz-ev.de
SUMMARY:Dragons MC Schwedt
DESCRIPTION:25 Jahre
URL:https://corax-strelitz-ev.de/termin/dragons-mc-schwedt-2/
END:VEVENT
BEGIN:VEVENT
DTSTART;VALUE=DATE:20230722
DTEND;VALUE=DATE:20230723
DTSTAMP:20260421T125709
CREATED:20230130T124954Z
LAST-MODIFIED:20230130T124954Z
UID:517-1689984000-1690070399@corax-strelitz-ev.de
SUMMARY:Kolbenfresser Wolgast
DESCRIPTION:Jahresparty
URL:https://corax-strelitz-ev.de/termin/kolbenfresser-wolgast/
END:VEVENT
END:VCALENDAR