BEGIN:VCALENDAR
VERSION:2.0
PRODID:-//Corax Strelitz e.V. - ECPv6.15.20//NONSGML v1.0//EN
CALSCALE:GREGORIAN
METHOD:PUBLISH
X-WR-CALNAME:Corax Strelitz e.V.
X-ORIGINAL-URL:https://corax-strelitz-ev.de
X-WR-CALDESC:Veranstaltungen für Corax Strelitz e.V.
REFRESH-INTERVAL;VALUE=DURATION:PT1H
X-Robots-Tag:noindex
X-PUBLISHED-TTL:PT1H
BEGIN:VTIMEZONE
TZID:UTC
BEGIN:STANDARD
TZOFFSETFROM:+0000
TZOFFSETTO:+0000
TZNAME:UTC
DTSTART:20220101T000000
END:STANDARD
END:VTIMEZONE
BEGIN:VEVENT
DTSTART;VALUE=DATE:20230602
DTEND;VALUE=DATE:20230605
DTSTAMP:20260421T140601
CREATED:20230130T124433Z
LAST-MODIFIED:20230130T124433Z
UID:500-1685664000-1685923199@corax-strelitz-ev.de
SUMMARY:RT Club Parchim
DESCRIPTION:
URL:https://corax-strelitz-ev.de/termin/rt-club-parchim/
END:VEVENT
BEGIN:VEVENT
DTSTART;VALUE=DATE:20230610
DTEND;VALUE=DATE:20230611
DTSTAMP:20260421T140601
CREATED:20230130T124512Z
LAST-MODIFIED:20230130T124512Z
UID:502-1686355200-1686441599@corax-strelitz-ev.de
SUMMARY:Dragons MC North East
DESCRIPTION:
URL:https://corax-strelitz-ev.de/termin/dragons-mc-north-east/
END:VEVENT
BEGIN:VEVENT
DTSTART;VALUE=DATE:20230610
DTEND;VALUE=DATE:20230611
DTSTAMP:20260421T140601
CREATED:20230130T124543Z
LAST-MODIFIED:20230130T124543Z
UID:505-1686355200-1686441599@corax-strelitz-ev.de
SUMMARY:Mark Brothers
DESCRIPTION:
URL:https://corax-strelitz-ev.de/termin/mark-brothers/
END:VEVENT
BEGIN:VEVENT
DTSTART;VALUE=DATE:20230617
DTEND;VALUE=DATE:20230618
DTSTAMP:20260421T140601
CREATED:20230130T124624Z
LAST-MODIFIED:20230130T124624Z
UID:507-1686960000-1687046399@corax-strelitz-ev.de
SUMMARY:Windhunde Stralsund
DESCRIPTION:Sommerparty
URL:https://corax-strelitz-ev.de/termin/windhunde-stralsund/
END:VEVENT
BEGIN:VEVENT
DTSTART;VALUE=DATE:20230617
DTEND;VALUE=DATE:20230618
DTSTAMP:20260421T140601
CREATED:20230130T124654Z
LAST-MODIFIED:20230130T124654Z
UID:509-1686960000-1687046399@corax-strelitz-ev.de
SUMMARY:Die Gurken
DESCRIPTION:Sommerparty
URL:https://corax-strelitz-ev.de/termin/die-gurken/
END:VEVENT
BEGIN:VEVENT
DTSTART;VALUE=DATE:20230624
DTEND;VALUE=DATE:20230625
DTSTAMP:20260421T140601
CREATED:20230130T124728Z
LAST-MODIFIED:20230130T124728Z
UID:511-1687564800-1687651199@corax-strelitz-ev.de
SUMMARY:Old Boys Wolgast
DESCRIPTION:Sommerparty
URL:https://corax-strelitz-ev.de/termin/old-boys-wolgast-2/
END:VEVENT
BEGIN:VEVENT
DTSTART;VALUE=DATE:20230630
DTEND;VALUE=DATE:20230703
DTSTAMP:20260421T140601
CREATED:20230130T124823Z
LAST-MODIFIED:20230130T124823Z
UID:513-1688083200-1688342399@corax-strelitz-ev.de
SUMMARY:MC Meute
DESCRIPTION:Meute Plau am See – 30 Jahre
URL:https://corax-strelitz-ev.de/termin/mc-meute/
END:VEVENT
END:VCALENDAR