BEGIN:VCALENDAR
VERSION:2.0
PRODID:-//Corax Strelitz e.V. - ECPv6.15.20//NONSGML v1.0//EN
CALSCALE:GREGORIAN
METHOD:PUBLISH
X-WR-CALNAME:Corax Strelitz e.V.
X-ORIGINAL-URL:https://corax-strelitz-ev.de
X-WR-CALDESC:Veranstaltungen für Corax Strelitz e.V.
REFRESH-INTERVAL;VALUE=DURATION:PT1H
X-Robots-Tag:noindex
X-PUBLISHED-TTL:PT1H
BEGIN:VTIMEZONE
TZID:UTC
BEGIN:STANDARD
TZOFFSETFROM:+0000
TZOFFSETTO:+0000
TZNAME:UTC
DTSTART:20220101T000000
END:STANDARD
END:VTIMEZONE
BEGIN:VEVENT
DTSTART;VALUE=DATE:20230505
DTEND;VALUE=DATE:20230508
DTSTAMP:20260421T153502
CREATED:20230130T123856Z
LAST-MODIFIED:20230130T123856Z
UID:492-1683244800-1683503999@corax-strelitz-ev.de
SUMMARY:Büffel MC
DESCRIPTION:
URL:https://corax-strelitz-ev.de/termin/bueffel-mc/
END:VEVENT
BEGIN:VEVENT
DTSTART;VALUE=DATE:20230506
DTEND;VALUE=DATE:20230507
DTSTAMP:20260421T153502
CREATED:20230208T111219Z
LAST-MODIFIED:20230208T111219Z
UID:584-1683331200-1683417599@corax-strelitz-ev.de
SUMMARY:Moped Rüden Grillabend
DESCRIPTION:
URL:https://corax-strelitz-ev.de/termin/moped-rueden-grillabend/
END:VEVENT
BEGIN:VEVENT
DTSTART;VALUE=DATE:20230520
DTEND;VALUE=DATE:20230521
DTSTAMP:20260421T153502
CREATED:20230130T123936Z
LAST-MODIFIED:20230130T123936Z
UID:494-1684540800-1684627199@corax-strelitz-ev.de
SUMMARY:MF Penzlin
DESCRIPTION:25 Jahre
URL:https://corax-strelitz-ev.de/termin/mf-penzlin/
END:VEVENT
BEGIN:VEVENT
DTSTART;VALUE=DATE:20230520
DTEND;VALUE=DATE:20230521
DTSTAMP:20260421T153502
CREATED:20230130T124015Z
LAST-MODIFIED:20230130T124015Z
UID:496-1684540800-1684627199@corax-strelitz-ev.de
SUMMARY:Berserker MC
DESCRIPTION:Bikergottesdienst
URL:https://corax-strelitz-ev.de/termin/berserker-mc-3/
END:VEVENT
BEGIN:VEVENT
DTSTART;VALUE=DATE:20230527
DTEND;VALUE=DATE:20230528
DTSTAMP:20260421T153502
CREATED:20230130T124321Z
LAST-MODIFIED:20230130T124321Z
UID:498-1685145600-1685231999@corax-strelitz-ev.de
SUMMARY:MF Wodan
DESCRIPTION:Pfingstparty
URL:https://corax-strelitz-ev.de/termin/mf-wodan/
END:VEVENT
END:VCALENDAR