BEGIN:VCALENDAR
VERSION:2.0
PRODID:-//Corax Strelitz e.V. - ECPv6.15.20//NONSGML v1.0//EN
CALSCALE:GREGORIAN
METHOD:PUBLISH
X-WR-CALNAME:Corax Strelitz e.V.
X-ORIGINAL-URL:https://corax-strelitz-ev.de
X-WR-CALDESC:Veranstaltungen für Corax Strelitz e.V.
REFRESH-INTERVAL;VALUE=DURATION:PT1H
X-Robots-Tag:noindex
X-PUBLISHED-TTL:PT1H
BEGIN:VTIMEZONE
TZID:UTC
BEGIN:STANDARD
TZOFFSETFROM:+0000
TZOFFSETTO:+0000
TZNAME:UTC
DTSTART:20220101T000000
END:STANDARD
END:VTIMEZONE
BEGIN:VEVENT
DTSTART;VALUE=DATE:20230407
DTEND;VALUE=DATE:20230408
DTSTAMP:20260421T170111
CREATED:20230130T123530Z
LAST-MODIFIED:20230130T123530Z
UID:480-1680825600-1680911999@corax-strelitz-ev.de
SUMMARY:Old Boys Wolgast
DESCRIPTION:Osterfeuer
URL:https://corax-strelitz-ev.de/termin/old-boys-wolgast/
END:VEVENT
BEGIN:VEVENT
DTSTART;VALUE=DATE:20230407
DTEND;VALUE=DATE:20230408
DTSTAMP:20260421T170111
CREATED:20230130T123617Z
LAST-MODIFIED:20230130T123617Z
UID:482-1680825600-1680911999@corax-strelitz-ev.de
SUMMARY:Berserker MC
DESCRIPTION:Memorial Run Matze
URL:https://corax-strelitz-ev.de/termin/berserker-mc-2/
END:VEVENT
BEGIN:VEVENT
DTSTART;VALUE=DATE:20230407
DTEND;VALUE=DATE:20230408
DTSTAMP:20260421T170111
CREATED:20230130T123652Z
LAST-MODIFIED:20230130T123652Z
UID:484-1680825600-1680911999@corax-strelitz-ev.de
SUMMARY:MC RT Club Parchim
DESCRIPTION:Osterfeuer
URL:https://corax-strelitz-ev.de/termin/mc-rt-club-parchim/
END:VEVENT
BEGIN:VEVENT
DTSTART;VALUE=DATE:20230415
DTEND;VALUE=DATE:20230416
DTSTAMP:20260421T170111
CREATED:20230130T123726Z
LAST-MODIFIED:20230130T123726Z
UID:486-1681516800-1681603199@corax-strelitz-ev.de
SUMMARY:Bulldog Garage
DESCRIPTION:
URL:https://corax-strelitz-ev.de/termin/bulldog-garage/
END:VEVENT
BEGIN:VEVENT
DTSTART;VALUE=DATE:20230422
DTEND;VALUE=DATE:20230423
DTSTAMP:20260421T170111
CREATED:20230130T123752Z
LAST-MODIFIED:20230130T123752Z
UID:488-1682121600-1682207999@corax-strelitz-ev.de
SUMMARY:Lones MC
DESCRIPTION:
URL:https://corax-strelitz-ev.de/termin/lones-mc-2/
END:VEVENT
BEGIN:VEVENT
DTSTART;VALUE=DATE:20230429
DTEND;VALUE=DATE:20230430
DTSTAMP:20260421T170111
CREATED:20230130T123825Z
LAST-MODIFIED:20230130T123825Z
UID:490-1682726400-1682812799@corax-strelitz-ev.de
SUMMARY:MF Pasewalk
DESCRIPTION:30 Jahre
URL:https://corax-strelitz-ev.de/termin/mf-pasewalk/
END:VEVENT
END:VCALENDAR