BEGIN:VCALENDAR
VERSION:2.0
PRODID:-//Corax Strelitz e.V. - ECPv6.15.20//NONSGML v1.0//EN
CALSCALE:GREGORIAN
METHOD:PUBLISH
X-WR-CALNAME:Corax Strelitz e.V.
X-ORIGINAL-URL:https://corax-strelitz-ev.de
X-WR-CALDESC:Veranstaltungen für Corax Strelitz e.V.
REFRESH-INTERVAL;VALUE=DURATION:PT1H
X-Robots-Tag:noindex
X-PUBLISHED-TTL:PT1H
BEGIN:VTIMEZONE
TZID:America/Los_Angeles
BEGIN:DAYLIGHT
TZOFFSETFROM:-0800
TZOFFSETTO:-0700
TZNAME:PDT
DTSTART:20250309T100000
END:DAYLIGHT
BEGIN:STANDARD
TZOFFSETFROM:-0700
TZOFFSETTO:-0800
TZNAME:PST
DTSTART:20251102T090000
END:STANDARD
BEGIN:DAYLIGHT
TZOFFSETFROM:-0800
TZOFFSETTO:-0700
TZNAME:PDT
DTSTART:20260308T100000
END:DAYLIGHT
BEGIN:STANDARD
TZOFFSETFROM:-0700
TZOFFSETTO:-0800
TZNAME:PST
DTSTART:20261101T090000
END:STANDARD
BEGIN:DAYLIGHT
TZOFFSETFROM:-0800
TZOFFSETTO:-0700
TZNAME:PDT
DTSTART:20270314T100000
END:DAYLIGHT
BEGIN:STANDARD
TZOFFSETFROM:-0700
TZOFFSETTO:-0800
TZNAME:PST
DTSTART:20271107T090000
END:STANDARD
END:VTIMEZONE
BEGIN:VEVENT
DTSTART;VALUE=DATE:20260606
DTEND;VALUE=DATE:20260607
DTSTAMP:20260419T215704
CREATED:20260118T061341Z
LAST-MODIFIED:20260118T061341Z
UID:1296-1780704000-1780790399@corax-strelitz-ev.de
SUMMARY:Desperados Dabel
DESCRIPTION:
URL:https://corax-strelitz-ev.de/termin/desperados-dabel/
END:VEVENT
BEGIN:VEVENT
DTSTART;VALUE=DATE:20260606
DTEND;VALUE=DATE:20260607
DTSTAMP:20260419T215704
CREATED:20260118T061410Z
LAST-MODIFIED:20260118T061410Z
UID:1298-1780704000-1780790399@corax-strelitz-ev.de
SUMMARY:Old Boys Wolgast
DESCRIPTION:
URL:https://corax-strelitz-ev.de/termin/old-boys-wolgast-4/
END:VEVENT
END:VCALENDAR