BEGIN:VCALENDAR
VERSION:2.0
PRODID:-//Corax Strelitz e.V. - ECPv6.15.20//NONSGML v1.0//EN
CALSCALE:GREGORIAN
METHOD:PUBLISH
X-WR-CALNAME:Corax Strelitz e.V.
X-ORIGINAL-URL:https://corax-strelitz-ev.de
X-WR-CALDESC:Veranstaltungen für Corax Strelitz e.V.
REFRESH-INTERVAL;VALUE=DURATION:PT1H
X-Robots-Tag:noindex
X-PUBLISHED-TTL:PT1H
BEGIN:VTIMEZONE
TZID:UTC
BEGIN:STANDARD
TZOFFSETFROM:+0000
TZOFFSETTO:+0000
TZNAME:UTC
DTSTART:20240101T000000
END:STANDARD
END:VTIMEZONE
BEGIN:VEVENT
DTSTART;VALUE=DATE:20250329
DTEND;VALUE=DATE:20250330
DTSTAMP:20260420T111919
CREATED:20250129T163543Z
LAST-MODIFIED:20250129T163543Z
UID:946-1743206400-1743292799@corax-strelitz-ev.de
SUMMARY:Bulldog Garage Züssow
DESCRIPTION:
URL:https://corax-strelitz-ev.de/termin/bulldog-garage-zuessow/
END:VEVENT
BEGIN:VEVENT
DTSTART;VALUE=DATE:20250329
DTEND;VALUE=DATE:20250330
DTSTAMP:20260420T111919
CREATED:20250129T163612Z
LAST-MODIFIED:20250129T163612Z
UID:948-1743206400-1743292799@corax-strelitz-ev.de
SUMMARY:Silvertooth MC Lieberose
DESCRIPTION:
URL:https://corax-strelitz-ev.de/termin/silvertooth-mc-lieberose/
END:VEVENT
END:VCALENDAR