BEGIN:VCALENDAR
VERSION:2.0
PRODID:-//Corax Strelitz e.V. - ECPv6.15.20//NONSGML v1.0//EN
CALSCALE:GREGORIAN
METHOD:PUBLISH
X-ORIGINAL-URL:https://corax-strelitz-ev.de
X-WR-CALDESC:Veranstaltungen für Corax Strelitz e.V.
REFRESH-INTERVAL;VALUE=DURATION:PT1H
X-Robots-Tag:noindex
X-PUBLISHED-TTL:PT1H
BEGIN:VTIMEZONE
TZID:UTC
BEGIN:STANDARD
TZOFFSETFROM:+0000
TZOFFSETTO:+0000
TZNAME:UTC
DTSTART:20230101T000000
END:STANDARD
END:VTIMEZONE
BEGIN:VEVENT
DTSTART;VALUE=DATE:20240907
DTEND;VALUE=DATE:20240908
DTSTAMP:20260420T185758
CREATED:20240128T152323Z
LAST-MODIFIED:20240128T152323Z
UID:638-1725667200-1725753599@corax-strelitz-ev.de
SUMMARY:Schwarzfahrer Wolgast
DESCRIPTION:
URL:https://corax-strelitz-ev.de/termin/schwarzfahrer-wolgast-2/
END:VEVENT
BEGIN:VEVENT
DTSTART;VALUE=DATE:20240907
DTEND;VALUE=DATE:20240908
DTSTAMP:20260420T185758
CREATED:20240128T152548Z
LAST-MODIFIED:20240128T152548Z
UID:640-1725667200-1725753599@corax-strelitz-ev.de
SUMMARY:GreyBulls Güstrow - 20 Jahre
DESCRIPTION:
URL:https://corax-strelitz-ev.de/termin/greybulls-guestrow-20-jahre/
END:VEVENT
END:VCALENDAR