BEGIN:VCALENDAR
VERSION:2.0
PRODID:-//Corax Strelitz e.V. - ECPv6.15.20//NONSGML v1.0//EN
CALSCALE:GREGORIAN
METHOD:PUBLISH
X-WR-CALNAME:Corax Strelitz e.V.
X-ORIGINAL-URL:https://corax-strelitz-ev.de
X-WR-CALDESC:Veranstaltungen für Corax Strelitz e.V.
REFRESH-INTERVAL;VALUE=DURATION:PT1H
X-Robots-Tag:noindex
X-PUBLISHED-TTL:PT1H
BEGIN:VTIMEZONE
TZID:UTC
BEGIN:STANDARD
TZOFFSETFROM:+0000
TZOFFSETTO:+0000
TZNAME:UTC
DTSTART:20220101T000000
END:STANDARD
END:VTIMEZONE
BEGIN:VEVENT
DTSTART;VALUE=DATE:20230505
DTEND;VALUE=DATE:20230508
DTSTAMP:20260421T165858
CREATED:20230130T123856Z
LAST-MODIFIED:20230130T123856Z
UID:492-1683244800-1683503999@corax-strelitz-ev.de
SUMMARY:Büffel MC
DESCRIPTION:
URL:https://corax-strelitz-ev.de/termin/bueffel-mc/
END:VEVENT
BEGIN:VEVENT
DTSTART;VALUE=DATE:20230506
DTEND;VALUE=DATE:20230507
DTSTAMP:20260421T165858
CREATED:20230208T111219Z
LAST-MODIFIED:20230208T111219Z
UID:584-1683331200-1683417599@corax-strelitz-ev.de
SUMMARY:Moped Rüden Grillabend
DESCRIPTION:
URL:https://corax-strelitz-ev.de/termin/moped-rueden-grillabend/
END:VEVENT
END:VCALENDAR