BEGIN:VCALENDAR
VERSION:2.0
PRODID:-//Corax Strelitz e.V. - ECPv6.15.20//NONSGML v1.0//EN
CALSCALE:GREGORIAN
METHOD:PUBLISH
X-ORIGINAL-URL:https://corax-strelitz-ev.de
X-WR-CALDESC:Veranstaltungen für Corax Strelitz e.V.
REFRESH-INTERVAL;VALUE=DURATION:PT1H
X-Robots-Tag:noindex
X-PUBLISHED-TTL:PT1H
BEGIN:VTIMEZONE
TZID:UTC
BEGIN:STANDARD
TZOFFSETFROM:+0000
TZOFFSETTO:+0000
TZNAME:UTC
DTSTART:20220101T000000
END:STANDARD
END:VTIMEZONE
BEGIN:VEVENT
DTSTART;VALUE=DATE:20230311
DTEND;VALUE=DATE:20230312
DTSTAMP:20260421T194927
CREATED:20230130T122643Z
LAST-MODIFIED:20230130T122643Z
UID:472-1678492800-1678579199@corax-strelitz-ev.de
SUMMARY:MF Meyenburg
DESCRIPTION:Saisonstart
URL:https://corax-strelitz-ev.de/termin/mf-meyenburg/
END:VEVENT
BEGIN:VEVENT
DTSTART;VALUE=DATE:20230311
DTEND;VALUE=DATE:20230312
DTSTAMP:20260421T194927
CREATED:20230130T122716Z
LAST-MODIFIED:20230130T122716Z
UID:474-1678492800-1678579199@corax-strelitz-ev.de
SUMMARY:Dragons MC Greifswald
DESCRIPTION:
URL:https://corax-strelitz-ev.de/termin/dragons-mc-greifswald/
END:VEVENT
END:VCALENDAR