BEGIN:VCALENDAR
VERSION:2.0
PRODID:-//Corax Strelitz e.V. - ECPv6.15.20//NONSGML v1.0//EN
CALSCALE:GREGORIAN
METHOD:PUBLISH
X-ORIGINAL-URL:https://corax-strelitz-ev.de
X-WR-CALDESC:Veranstaltungen für Corax Strelitz e.V.
REFRESH-INTERVAL;VALUE=DURATION:PT1H
X-Robots-Tag:noindex
X-PUBLISHED-TTL:PT1H
BEGIN:VTIMEZONE
TZID:UTC
BEGIN:STANDARD
TZOFFSETFROM:+0000
TZOFFSETTO:+0000
TZNAME:UTC
DTSTART:20220101T000000
END:STANDARD
END:VTIMEZONE
BEGIN:VEVENT
DTSTART;VALUE=DATE:20230218
DTEND;VALUE=DATE:20230219
DTSTAMP:20260421T210957
CREATED:20230130T121552Z
LAST-MODIFIED:20230130T121552Z
UID:459-1676678400-1676764799@corax-strelitz-ev.de
SUMMARY:Birdge Guards MC
DESCRIPTION:Birdge Guards MC Zehdenick – Nordfjordparty
URL:https://corax-strelitz-ev.de/termin/birdge-guards-mc/
END:VEVENT
BEGIN:VEVENT
DTSTART;VALUE=DATE:20230218
DTEND;VALUE=DATE:20230219
DTSTAMP:20260421T210957
CREATED:20230130T122548Z
LAST-MODIFIED:20230130T122548Z
UID:470-1676678400-1676764799@corax-strelitz-ev.de
SUMMARY:Berserker MC
DESCRIPTION:Berserker MC – 15 Jahre
URL:https://corax-strelitz-ev.de/termin/berserker-mc/
END:VEVENT
END:VCALENDAR