BEGIN:VCALENDAR
VERSION:2.0
PRODID:-//Corax Strelitz e.V. - ECPv6.15.20//NONSGML v1.0//EN
CALSCALE:GREGORIAN
METHOD:PUBLISH
X-ORIGINAL-URL:https://corax-strelitz-ev.de
X-WR-CALDESC:Veranstaltungen für Corax Strelitz e.V.
REFRESH-INTERVAL;VALUE=DURATION:PT1H
X-Robots-Tag:noindex
X-PUBLISHED-TTL:PT1H
BEGIN:VTIMEZONE
TZID:America/Los_Angeles
BEGIN:DAYLIGHT
TZOFFSETFROM:-0800
TZOFFSETTO:-0700
TZNAME:PDT
DTSTART:20250309T100000
END:DAYLIGHT
BEGIN:STANDARD
TZOFFSETFROM:-0700
TZOFFSETTO:-0800
TZNAME:PST
DTSTART:20251102T090000
END:STANDARD
BEGIN:DAYLIGHT
TZOFFSETFROM:-0800
TZOFFSETTO:-0700
TZNAME:PDT
DTSTART:20260308T100000
END:DAYLIGHT
BEGIN:STANDARD
TZOFFSETFROM:-0700
TZOFFSETTO:-0800
TZNAME:PST
DTSTART:20261101T090000
END:STANDARD
BEGIN:DAYLIGHT
TZOFFSETFROM:-0800
TZOFFSETTO:-0700
TZNAME:PDT
DTSTART:20270314T100000
END:DAYLIGHT
BEGIN:STANDARD
TZOFFSETFROM:-0700
TZOFFSETTO:-0800
TZNAME:PST
DTSTART:20271107T090000
END:STANDARD
END:VTIMEZONE
BEGIN:VEVENT
DTSTART;VALUE=DATE:20260801
DTEND;VALUE=DATE:20260802
DTSTAMP:20260419T163035
CREATED:20260118T061929Z
LAST-MODIFIED:20260118T061929Z
UID:1310-1785542400-1785628799@corax-strelitz-ev.de
SUMMARY:Corax Party
DESCRIPTION:
URL:https://corax-strelitz-ev.de/termin/corax-party/
END:VEVENT
BEGIN:VEVENT
DTSTART;VALUE=DATE:20260808
DTEND;VALUE=DATE:20260809
DTSTAMP:20260419T163035
CREATED:20260118T061954Z
LAST-MODIFIED:20260118T061954Z
UID:1312-1786147200-1786233599@corax-strelitz-ev.de
SUMMARY:MF Meyenburg - 30 Jahre
DESCRIPTION:
URL:https://corax-strelitz-ev.de/termin/mf-meyenburg-30-jahre/
END:VEVENT
BEGIN:VEVENT
DTSTART;TZID=America/Los_Angeles:20260829T080000
DTEND;TZID=America/Los_Angeles:20260829T170000
DTSTAMP:20260419T163035
CREATED:20260118T062043Z
LAST-MODIFIED:20260118T062043Z
UID:1314-1787990400-1788022800@corax-strelitz-ev.de
SUMMARY:Alter Bahnhof Friedland - 25 Jahre
DESCRIPTION:
URL:https://corax-strelitz-ev.de/termin/alter-bahnhof-friedland-25-jahre/
END:VEVENT
BEGIN:VEVENT
DTSTART;VALUE=DATE:20260905
DTEND;VALUE=DATE:20260906
DTSTAMP:20260419T163035
CREATED:20260118T062148Z
LAST-MODIFIED:20260118T062148Z
UID:1316-1788566400-1788652799@corax-strelitz-ev.de
SUMMARY:Dragons MC Greifswald
DESCRIPTION:
URL:https://corax-strelitz-ev.de/termin/dragons-mc-greifswald-5/
END:VEVENT
BEGIN:VEVENT
DTSTART;VALUE=DATE:20260912
DTEND;VALUE=DATE:20260913
DTSTAMP:20260419T163035
CREATED:20260118T062225Z
LAST-MODIFIED:20260118T062225Z
UID:1318-1789171200-1789257599@corax-strelitz-ev.de
SUMMARY:Kolbenfresser - 20 Jahre
DESCRIPTION:
URL:https://corax-strelitz-ev.de/termin/kolbenfresser-20-jahre/
END:VEVENT
BEGIN:VEVENT
DTSTART;VALUE=DATE:20260919
DTEND;VALUE=DATE:20260920
DTSTAMP:20260419T163035
CREATED:20260118T062252Z
LAST-MODIFIED:20260118T062252Z
UID:1320-1789776000-1789862399@corax-strelitz-ev.de
SUMMARY:Brueder wie Wir
DESCRIPTION:
URL:https://corax-strelitz-ev.de/termin/brueder-wie-wir-7/
END:VEVENT
BEGIN:VEVENT
DTSTART;VALUE=DATE:20260919
DTEND;VALUE=DATE:20260920
DTSTAMP:20260419T163035
CREATED:20260118T062321Z
LAST-MODIFIED:20260118T062321Z
UID:1322-1789776000-1789862399@corax-strelitz-ev.de
SUMMARY:Old Boys Wolgast
DESCRIPTION:
URL:https://corax-strelitz-ev.de/termin/old-boys-wolgast-5/
END:VEVENT
BEGIN:VEVENT
DTSTART;VALUE=DATE:20260926
DTEND;VALUE=DATE:20260927
DTSTAMP:20260419T163035
CREATED:20260118T062349Z
LAST-MODIFIED:20260118T062349Z
UID:1324-1790380800-1790467199@corax-strelitz-ev.de
SUMMARY:Hard Springs Garage
DESCRIPTION:
URL:https://corax-strelitz-ev.de/termin/hard-springs-garage-3/
END:VEVENT
BEGIN:VEVENT
DTSTART;VALUE=DATE:20261002
DTEND;VALUE=DATE:20261003
DTSTAMP:20260419T163035
CREATED:20260118T062418Z
LAST-MODIFIED:20260118T062418Z
UID:1326-1790899200-1790985599@corax-strelitz-ev.de
SUMMARY:MF Penzlin
DESCRIPTION:
URL:https://corax-strelitz-ev.de/termin/mf-penzlin-3/
END:VEVENT
BEGIN:VEVENT
DTSTART;VALUE=DATE:20261010
DTEND;VALUE=DATE:20261011
DTSTAMP:20260419T163035
CREATED:20260118T062450Z
LAST-MODIFIED:20260118T062450Z
UID:1328-1791590400-1791676799@corax-strelitz-ev.de
SUMMARY:MF Wodan
DESCRIPTION:
URL:https://corax-strelitz-ev.de/termin/mf-wodan-3/
END:VEVENT
BEGIN:VEVENT
DTSTART;VALUE=DATE:20261017
DTEND;VALUE=DATE:20261018
DTSTAMP:20260419T163035
CREATED:20260118T062523Z
LAST-MODIFIED:20260118T062523Z
UID:1330-1792195200-1792281599@corax-strelitz-ev.de
SUMMARY:Hard Springs Garage
DESCRIPTION:
URL:https://corax-strelitz-ev.de/termin/hard-springs-garage-4/
END:VEVENT
BEGIN:VEVENT
DTSTART;VALUE=DATE:20261024
DTEND;VALUE=DATE:20261025
DTSTAMP:20260419T163035
CREATED:20260118T062553Z
LAST-MODIFIED:20260118T062553Z
UID:1332-1792800000-1792886399@corax-strelitz-ev.de
SUMMARY:Bridge Guards MC
DESCRIPTION:
URL:https://corax-strelitz-ev.de/termin/bridge-guards-mc-4/
END:VEVENT
BEGIN:VEVENT
DTSTART;VALUE=DATE:20261107
DTEND;VALUE=DATE:20261108
DTSTAMP:20260419T163035
CREATED:20260118T062626Z
LAST-MODIFIED:20260118T062626Z
UID:1334-1794009600-1794095999@corax-strelitz-ev.de
SUMMARY:MF Meyenburg
DESCRIPTION:
URL:https://corax-strelitz-ev.de/termin/mf-meyenburg-5/
END:VEVENT
BEGIN:VEVENT
DTSTART;VALUE=DATE:20261128
DTEND;VALUE=DATE:20261129
DTSTAMP:20260419T163035
CREATED:20260118T062653Z
LAST-MODIFIED:20260118T062653Z
UID:1336-1795824000-1795910399@corax-strelitz-ev.de
SUMMARY:Glühweinparty Corax
DESCRIPTION:
URL:https://corax-strelitz-ev.de/termin/gluehweinparty-corax-2/
END:VEVENT
BEGIN:VEVENT
DTSTART;VALUE=DATE:20261205
DTEND;VALUE=DATE:20261206
DTSTAMP:20260419T163035
CREATED:20260118T062719Z
LAST-MODIFIED:20260118T062719Z
UID:1338-1796428800-1796515199@corax-strelitz-ev.de
SUMMARY:MF Pasewalk
DESCRIPTION:
URL:https://corax-strelitz-ev.de/termin/mf-pasewalk-5/
END:VEVENT
END:VCALENDAR